Workbook

Sheet Potència
A1: BALANÇ ELECTRIC ANDORRA
A3: Potència instal·lada (kW)
A4: Font | B4: 2019 | C4: 2020 | D4: 2021 | E4: 2022 | F4: 2023 | G4: 2024 | H4: 2025 | I4: Variació 2021-2024 | J4: %/ total darrer any
A5: Potència renovable | B5: =SUM(B6:B7) -> 50187.31 | C5: =SUM(C6:C7) -> 50470.09 | D5: =SUM(D6:D7) -> 53640.53 | E5: =SUM(E6:E7) -> 55014.78 | F5: =SUM(F6:F7) -> 59430.25 | G5: =SUM(G6:G7) -> 64379.19 | H5: =SUM(H6:H7) -> 68449.66 | J5: =G5/$G$11 -> 0.91735442
A6: Hidràulica | B6: 48400 | C6: 48415.08 | D6: 48914.08 | E6: 48914.08 | F6: 49224.08 | G6: 49224.08 | H6: 49224.08 | J6: =G6/$G$5 -> 0.76459614
A7: Solar Fotovoltaica | B7: 1787.31 | C7: 2055.01 | D7: 4726.45 | E7: 6100.7 | F7: 10206.17 | G7: 15155.11 | H7: 19225.58 | J7: =G7/$G$5 -> 0.23540386
A8: Potència no renovable | B8: =B9+B10 -> 5800 | C8: =C9+C10 -> 5800 | D8: =D9+D10 -> 5800 | E8: =E9+E10 -> 5800 | F8: =F9+F10 -> 5800 | G8: =G9+G10 -> 5800 | H8: =H9+H10 -> 5800 | J8: =G8/$G$11 -> 0.082645582
A9: Cogeneració GNL | B9: 1800 | C9: 1800 | D9: 1800 | E9: 1800 | F9: 1800 | G9: 1800 | H9: 1800 | J9: =G9/$G$8 -> 0.31034483
A10: Cogeneració - Valorització de residus | B10: 4000 | C10: 4000 | D10: 4000 | E10: 4000 | F10: 4000 | G10: 4000 | H10: 4000 | J10: =G10/$G$8 -> 0.68965517
A11: Total potència instal·lada nacional | B11: =B5+B8 -> 55987.31 | C11: =C5+C8 -> 56270.09 | D11: =D5+D8 -> 59440.53 | E11: =E5+E8 -> 60814.78 | F11: =F5+F8 -> 65230.25 | G11: =G5+G8 -> 70179.19 | H11: =H5+H8 -> 74249.66 | J11: -

Sheet Produccio
A1: BALANÇ ELECTRIC ANDORRA
A3: Producció bruta d'energia elèctrica
A4: kWh | B4: 2021 | C4: 2022 | D4: 2023 | E4: 2024 | F4: 2025 | G4: Variació 2021-2025 | H4: % total darrer any
A5: Producció renovable | B5: =B6+B7+B8 -> 1.0176041e+08 | C5: =C6+C7+C8 -> 95718915 | D5: =D6+D7+D8 -> 1.0167514e+08 | E5: =E6+E7+E8 -> 1.2579736e+08 | F5: =F6+F7+F8 -> 1.2588465e+08 | G5: =(F5-B5)/B5 -> 0.23706905 | H5: =F5/$F$12 -> 0.93490601 | I5: =F7/F19 -> 0.032606333
A6: Hidràulica | B6: 80482242 | C6: 69688543 | D6: 72521270 | E6: 92471407 | F6: 88945107 | G6: =(F6-B6)/B6 -> 0.10515195 | H6: =F6/$F$5 -> 0.70656036 | I6: PB hidro calculada. Revisar valors de la hidro classificada com FV
A7: Solar Fotovoltaica | B7: 2811243.2 | C7: 5956397.8 | D7: 11177677 | E7: 15887824 | F7: 18787522 | G7: =(F7-B7)/B7 -> 5.6829943 | H7: =F7/$F$5 -> 0.14924394 | I7: PB estimada amb eina de potencial solar calculada pel 2021, 2022, 2023, 2024. Pel 2025 s'ha agafat el % mig del que representa la injecció respecte la PB pel 2021, 2022, 2023 i 2024 i s'ha fet una mitjana.
A8: Valorització de residus (renovable) | B8: 18466925 | C8: 20073974 | D8: 17976196 | E8: 17438134 | F8: 18152025 | G8: =(F8-B8)/B8 -> -0.01705211 | H8: =F8/$F$5 -> 0.14419569 | I8: Calculada a partir del % de carboni biogènic i de les dades de CTRASA
A9: Producció no renovable | B9: =B10+B11 -> 10278712 | C9: =C10+C11 -> 9082966 | D9: =D10+D11 -> 11932156 | E9: =E10+E11 -> 11054922 | F9: =F10+F11 -> 8764874.9 | G9: =(F9-B9)/B9 -> -0.14727889 | H9: =F9/$F$12 -> 0.065093989
A10: Cogeneració Soldeu (GNL) | B10: 7065753.5 | C10: 5590405.6 | D10: 8687485.3 | E10: 7804796.6 | F10: 5361235.5 | G10: =(F10-B10)/B10 -> -0.24123655 | H10: =F10/$F$9 -> 0.61167279 | I10: Calculada a partir de les dades del REN i assumint que la PB = PN. O bé apliquem el % mig de pèrdues dels transformadors.
A11: Valorització de residus (no renovable) | B11: 3212958.7 | C11: 3492560.5 | D11: 3244670.4 | E11: 3250125.6 | F11: 3403639.4 | G11: =(F11-B11)/B11 -> 0.059347363 | H11: =F11/$F$9 -> 0.38832721 | I11: Calculada a partir del % de carboni no biogènic i de les dades de CTRASA
A12: Total producció bruta d'energia elèctrica | B12: =B5+B9 -> 1.1203912e+08 | C12: =C5+C9 -> 1.0480188e+08 | D12: =D5+D9 -> 1.136073e+08 | E12: =E5+E9 -> 1.3685229e+08 | F12: =F5+F9 -> 1.3464953e+08 | G12: =(F12-B12)/B12 -> 0.20180814 | H12: =F12/$F$19 -> 0.23368847
A13: Consums propis | B13: =B12-B16 -> 7191708.9 | C13: =C12-C16 -> 6611455.7 | D13: =D12-D16 -> 7517436.9 | E13: =E12-E16 -> 9958495.5 | F13: =F12-F16 -> 8874936.6 | G13: =(F13-B13)/B13 -> 0.23405113 | H13: - | I13: Només inclou les pèrdues dels transformadors que eleven la tensió per injectar-la a la xarxa i els consums dels equips auxiliars. No inclou els consums que provenen de la xarxa elèctrica.
A14: Consums propis sense autoconsum FV | B14: =B13-B15 -> 6708787.7 | C14: =C13-C15 -> 5830170.9 | D14: =D13-D15 -> 4769495.1 | E14: =E13-E15 -> 4793367.1 | F14: =F13-F15 -> 4770374.2
A15: Autoconsum FV (dins de consums propis) | B15: 482921.2 | C15: 781284.8 | D15: 2747941.7 | E15: 5165128.4 | F15: 4104562.4 | G15: =(F15-B15)/B15 -> 7.4994453 | H15: =E15/E7 -> 0.32509981 | I15: Resta de la PB estimada i la injecció de la FV
A16: Producció neta d'energia elèctrica/Injecció | B16: 1.0484741e+08 | C16: 98190425 | D16: 1.0608986e+08 | E16: 1.2689379e+08 | F16: 1.2577459e+08 | G16: =(F16-B16)/B16 -> 0.19959652 | H16: - | I16: Dades extretes del REN i corregit la injecció amb les dades reals de FEDA per FV.
A17: Importació d'energia elèctrica | B17: 426887150 | C17: 461422530 | D17: 445409760 | E17: 434152940 | F17: 450527770 | G17: =(F17-B17)/F17 -> 0.052473169 | H17: =F17/$F$19 -> 0.78190505 | I17: dades donades per Jordi de Juan històric
A18: Exportació d'energia elèctrica | B18: -20700 | C18: -30880 | D18: -29660 | E18: -27370 | F18: -109930 | G18: - | H18: - | I18: dada extreta d'estadística (fluxos d'electrons)
A19: Demanda en b.c. | B19: =B16+B17+B18 -> 5.3171386e+08 | C19: =C16+C17+C18 -> 5.5958208e+08 | D19: =D16+D17+D18 -> 5.5146996e+08 | E19: =E16+E17+E18 -> 5.6101936e+08 | F19: =F16+F17+F18 -> 5.7619243e+08 | G19: =(F19-B19)/F19 -> 0.077193949 | H19: - | I19: es calcula a partir de la PN
M21: Prova % mig i aplicació de injecció/PB de FOTOVOLTAICA
A22: Que representa autoconsum respecte tota PB nacional | B22: =B15/B12 -> 0.0043102909 | C22: =C15/C12 -> 0.0074548738 | D22: =D15/D12 -> 0.024188074 | E22: =E15/E12 -> 0.037742361 | F22: =F15/F12 -> 0.030483303 | G22: =(F22-B22)/B22 -> 6.0722148 | M22: 2021 | N22: 2022 | O22: 2023 | P22: 2024 | Q22: 2025
A23: Que representa autoconsum respecte tota PB FV | B23: =B15/B7 -> 0.17178208 | C23: =C15/C7 -> 0.13116733 | D23: =D15/D7 -> 0.24584193 | E23: =E15/E7 -> 0.32509981 | F23: =F15/F7 -> 0.21847279 | L23: injeccio (a juliol 2026) | M23: 1514491.4 | N23: 5152452 | O23: 9351350.5 | P23: 12117391 | Q23: 16000902
L24: injeccio i FEDA a banda (a juliol 2026) | M24: =1222331+M36 -> 2328322 | N24: =3777720+N36 -> 5175113 | O24: =5581138.52+O36 -> 8429735.5 | P24: =7560436.24+P36 -> 10722695 | Q24: =10694060+Q36 -> 14682960
A25: Pèrdues de transport i distribució | B25: =B19-(B29+B58+B15) -> 65117595 | C25: =C19-(C29+C58+C15) -> 26297065 | D25: =D19-(D29+D58+D15) -> 51280771 | E25: =E19-(E29+E58+E15) -> 38465069 | F25: =F19-(F29+F58+F15) -> 30769524 | G25: - | H25: - | L25: PB estimada1 (no correcció autoconsum) | M25: 1876827.4 | N25: 6284706 | O25: 11507911 | P25: 15946337
A26: % Pèrdues (sobre OTS) | B26: =B25/B19 -> 0.12246736 | C26: =C25/C19 -> 0.046994116 | D26: =D25/D19 -> 0.092989238 | E26: =E25/E19 -> 0.068562819 | F26: =F25/F19 -> 0.053401472 | L26: PB estimada2 (correcció autoconsum deslo.) | M26: 1877256.4 | N26: 6294069 | O26: 12044373 | P26: 17411720 | Q26: =Q23/R29 -> 20661526
A27: Pèrdues totals (Importació, Transport,ETR, MT i BT) | B27: 0.0652 | C27: 0.0652 | D27: 0.0652 | E27: 0.0652 | F27: 0.0652 | G27: - | H27: - | I27: dada donada per FEDA pel 2020 | L27: PB estimada 3 (correcció autoconsum sense FEDA) | M27: 1568667 | N27: 4410501 | O27: 6948557 | P27: 9530878
L28: PB estimada 3 (FEDA a banda) | M28: =M27+M35 -> 2811243.2 | N28: =N27+N35 -> 5956397.8 | O28: =O27+O35 -> 11177677 | P28: =P27+P35 -> 15887824 | Q28: =Q24/R30 -> 18787522
A29: Consum final d'energia elèctrica | B29: =B30+B44+B51 -> 4.622475e+08 | C29: =C30+C44+C51 -> 5.2808725e+08 | D29: =D30+D44+D51 -> 4.9586491e+08 | E29: =E30+E44+E51 -> 5.1519758e+08 | F29: =F30+F44+F51 -> 531857193 | L29: injecció/PB2 | M29: =M23/M26 -> 0.80675788 | N29: =N23/N26 -> 0.8186202 | O29: =O23/O26 -> 0.77640825 | P29: =P23/P26 -> 0.69593305 | R29: =(O29+P29+N29+M29)/4 -> 0.77442984
A30: Fabricació, construcció i mineria | B30: =SUM(B31:B43) -> 12121201 | C30: =SUM(C31:C43) -> 13847672 | D30: =SUM(D31:D43) -> 12428377 | E30: =SUM(E31:E43) -> 13740940 | F30: =SUM(F31:F43) -> 14302119 | G30: =(F30-D30)/D30 -> 0.15076321 | H30: =F30/$F$29 -> 0.026890901 | L30: injecció/PB3 | M30: =M24/M28 -> 0.82821792 | N30: =N24/N28 -> 0.86883267 | O30: =O24/O28 -> 0.75415807 | P30: =P24/P28 -> 0.67490019 | R30: =(O30+P30+N30+M30)/4 -> 0.78152721
A31: Ferro i acer | B31: 8543.5144 | C31: 9760.4012 | D31: 8580 | E31: 8731 | F31: 11278 | G31: =(F31-D31)/D31 -> 0.31445221 | H31: =F31/$F$29 -> 2.120494e-05 | L31: aplicació % mig | M31: =M23/$R$29 -> 1955621.1 | N31: =N23/$R$29 -> 6653219.8 | O31: =O23/$R$29 -> 12075142 | P31: =P23/$R$29 -> 15646855 | Q31: =Q23/$R$29 -> 20661526
A32: Química i petroquímica | B32: - | C32: - | D32: - | E32: - | F32: - | G32: - | H32: - | L32: autoconsum PB 2 | M32: =M26-M23 -> 362765 | N32: =N26-N23 -> 1141617 | O32: =O26-O23 -> 2693022.5 | P32: =P26-P23 -> 5294328.4 | Q32: =Q31-Q23 -> 4660623.6
A33: Metalls no ferrosos | B33: - | C33: - | D33: - | E33: - | F33: - | G33: - | H33: - | L33: autoconsum PB 3 | M33: =M28-M24 -> 482921.2 | N33: =N28-N24 -> 781284.8 | O33: =O28-O24 -> 2747941.7 | P33: =P28-P24 -> 5165128.4 | Q33: =Q28-Q24 -> 4104562.4
A34: Minerals no metàl·lics | B34: 584004.64 | C34: 667186.74 | D34: 618754 | E34: 651552 | F34: 679841 | G34: =(F34-D34)/D34 -> 0.098725826 | H34: =F34/$F$29 -> 0.0012782397 | L34: % autoconsum sobre PB | M34: =M32/M26 -> 0.19324212 | N34: =N32/N26 -> 0.1813798 | O34: =O32/O26 -> 0.22359175 | P34: =P32/P26 -> 0.30406695 | Q34: =Q32/Q31 -> 0.22557016
A35: Equips de transport | B35: 18768.018 | C35: 21441.221 | D35: 18149 | E35: 19288 | F35: 25413 | G35: =(F35-D35)/D35 -> 0.40024244 | H35: =F35/$F$29 -> 4.7781623e-05 | L35: PB FEDA (excel seu) | M35: 1242576.2 | N35: 1545896.8 | O35: 4229120.2 | P35: 6356945.7 | Q35: 8106366.6
A36: Maquinària | B36: 1487882.7 | C36: 1699807.7 | D36: 1601839 | E36: 1655290 | F36: 1709625 | G36: =(F36-D36)/D36 -> 0.06728891 | H36: =F36/$F$29 -> 0.0032144437 | L36: injecció FEDA (excel seu) | M36: 1105991 | N36: 1397393 | O36: 2848597 | P36: 3162259 | Q36: 3988900
A37: Mineria i pedrera | B37: - | C37: - | D37: - | E37: - | F37: - | G37: - | H37: -
A38: Alimentació i tabac | B38: 2290066.1 | C38: 2616249.3 | D38: 2687074 | E38: 2531044 | F38: 2410986 | G38: =(F38-D38)/D38 -> -0.10274671 | H38: =F38/$F$29 -> 0.0045331454
A39: Polpa de paper i impressió | B39: 317318.69 | C39: 362515.66 | D39: 293100 | E39: 352960 | F39: 416695 | G39: =(F39-D39)/D39 -> 0.42168202 | H39: =F39/$F$29 -> 0.00078347159
A40: Fusta i productes de fusta | B40: 354796.23 | C40: 405331.27 | D40: 376801 | E40: 398326 | F40: 409487 | G40: =(F40-D40)/D40 -> 0.086746054 | H40: =F40/$F$29 -> 0.00076991908
A41: Tèxtil i pell | B41: 65044.249 | C41: 74308.76 | D41: 69661 | E41: 70595 | F41: 76954 | G41: =(F41-D41)/D41 -> 0.10469273 | H41: =F41/$F$29 -> 0.00014468922
A42: Construcció | B42: 5357584.3 | C42: 6120686.4 | D42: 4997431 | E42: 6196638 | F42: 6710906 | G42: =(F42-D42)/D42 -> 0.34287117 | H42: =F42/$F$29 -> 0.012617872
...

Sheet Produccio2_dades_OECC
A1: BALANÇ ELECTRIC ANDORRA
A3: Producció bruta d'energia elèctrica | H3: =F7/F12 -> 0.16647109
A4: kWh | B4: 2021 | C4: 2022 | D4: 2023 | E4: 2024 | F4: 2025 | G4: Variació 2021-2025 | H4: % total darrer any
A5: Producció renovable | B5: =B6+B7+B8 -> 1.0061907e+08 | C5: =C6+C7+C8 -> 95995663 | D5: =D6+D7+D8 -> 1.0208173e+08 | E5: =E6+E7+E8 -> 1.2721147e+08 | F5: =F6+F7+F8 -> 1.2995274e+08 | G5: =(F5-B5)/B5 -> 0.29153186 | H5: =F5/$F$12 -> 0.93681767
A6: Hidràulica | B6: 80286608 | C6: 69613704 | D6: 71889998 | E6: 92359315 | F6: 88708306 | G6: =(F6-B6)/B6 -> 0.10489542 | H6: =F6/$F$5 -> 0.68261976 | I6: PB assumint la dada del REN com a producció intermitja. Al 2021 i 2022 les dades no estan completes.
A7: Solar Fotovoltaica | B7: 1865538.4 | C7: 6307984 | D7: 12215537 | E7: 17414021 | F7: 23092406 | G7: =(F7-B7)/B7 -> 11.378414 | H7: =F7/$F$5 -> 0.17769849 | I7: PB estimada amb eina de potencial solar calculada pel 2021, 2022, 2023, 2024. Pel 2025 s'ha agafat el % mig del que representa la injecció respecte la PB pel 2021, 2022, 2023 i 2024 i s'ha fet una mitjana.
A8: Valorització de residus (renovable) | B8: 18466925 | C8: 20073974 | D8: 17976196 | E8: 17438134 | F8: 18152025 | G8: =(F8-B8)/B8 -> -0.01705211 | H8: =F8/$F$5 -> 0.13968174 | I8: Calculada a partir del % de carboni biogènic i de les dades de CTRASA
A9: Producció no renovable | B9: =B10+B11 -> 10278413 | C9: =C10+C11 -> 9080920.6 | D9: =D10+D11 -> 11933606 | E9: =E10+E11 -> 11054581 | F9: =F10+F11 -> 8764476 | G9: =(F9-B9)/B9 -> -0.14729287 | H9: =F9/$F$12 -> 0.063182325
A10: Cogeneració Soldeu (GNL) | B10: 7065454.2 | C10: 5588360.1 | D10: 8688936 | E10: 7804455.9 | F10: 5360836.6 | G10: =(F10-B10)/B10 -> -0.24126086 | H10: =F10/$F$9 -> 0.61165512 | I10: Calculada a partir de les dades del REN i assumint que la PB = PN. O bé apliquem el % mig de pèrdues dels transformadors.
A11: Valorització de residus (no renovable) | B11: 3212958.7 | C11: 3492560.5 | D11: 3244670.4 | E11: 3250125.6 | F11: 3403639.4 | G11: =(F11-B11)/B11 -> 0.059347363 | H11: =F11/$F$9 -> 0.38834488 | I11: Calculada a partir del % de carboni no biogènic i de les dades de CTRASA
A12: Total producció bruta d'energia elèctrica | B12: =B5+B9 -> 1.1089748e+08 | C12: =C5+C9 -> 1.0507658e+08 | D12: =D5+D9 -> 1.1401534e+08 | E12: =E5+E9 -> 1.3826605e+08 | F12: =F5+F9 -> 1.3871721e+08 | G12: =(F12-B12)/B12 -> 0.25085987 | H12: =F12/$F$19 -> 0.24078027
A13: Consums propis | B13: =B12-B16 -> 6192199.1 | C13: =C12-C16 -> 6884340.3 | D13: =D12-D16 -> 8451210.7 | E13: =E12-E16 -> 11466400 | F13: =F12-F16 -> 13019693 | G13: =(F13-B13)/B13 -> 1.102596 | H13: - | I13: Només inclou les pèrdues dels transformadors que eleven la tensió per injectar-la a la xarxa i els consums dels equips auxiliars. No inclou els consums que provenen de la xarxa elèctrica.
A14: Consums propis sense autoconsum FV | B14: =B13-B15 -> 5841152.1 | C14: =C13-C15 -> 5728808.3 | D14: =D13-D15 -> 5587024.2 | E14: =E13-E15 -> 6062351.5 | F14: =F13-F15 -> 5943744.5
A15: Autoconsum FV (dins de consums propis) | B15: 351047 | C15: 1155532 | D15: 2864186.5 | E15: 5404048.4 | F15: 7075948.2 | G15: =(F15-B15)/B15 -> 19.156698 | H15: =E15/E7 -> 0.31032744 | I15: Resta de la PB estimada i la injecció de la FV
A16: Producció neta d'energia elèctrica/Injecció | B16: 1.0470528e+08 | C16: 98192243 | D16: 1.0556413e+08 | E16: 1.2679965e+08 | F16: 1.2569752e+08 | G16: =(F16-B16)/B16 -> 0.20048878 | H16: - | I16: Dades extretes del REN excepte la hidro que està estimada
A17: Importació d'energia elèctrica | B17: 426887150 | C17: 461422530 | D17: 445409760 | E17: 434152940 | F17: 450527770 | G17: =(F17-B17)/F17 -> 0.052473169 | H17: =(F17+F18)/$F$19 -> 0.78181884 | I17: dades donades per Jordi de Juan històric
A18: Exportació d'energia elèctrica | B18: -20700 | C18: -30880 | D18: -29660 | E18: -27370 | F18: -109930 | G18: - | H18: - | I18: dada extreta d'estadística (fluxos d'electrons)
A19: Demanda en b.c. | B19: =B16+B17+B18 -> 5.3157173e+08 | C19: =C16+C17+C18 -> 5.5958389e+08 | D19: =D16+D17+D18 -> 5.5094423e+08 | E19: =E16+E17+E18 -> 5.6092522e+08 | F19: =F16+F17+F18 -> 5.7611536e+08 | G19: =(F19-B19)/F19 -> 0.077317196 | H19: - | I19: es calcula a partir de la PN
B20: =B12+B17+B18 -> 5.3776393e+08
B21: =B20-B19 -> 6192199.1
A22: Que representa autoconsum respecte tota PB nacional | B22: =B15/B12 -> 0.0031655092 | C22: =C15/C12 -> 0.010997046 | D22: =D15/D12 -> 0.025121063 | E22: =E15/E12 -> 0.03908442 | F22: =F15/F12 -> 0.051009879 | G22: =(F22-B22)/B22 -> 15.114273
A23: Que representa autoconsum respecte tota PB FV | B23: =B15/B7 -> 0.18817463 | C23: =C15/C7 -> 0.18318563 | D23: =D15/D7 -> 0.23447078 | E23: =E15/E7 -> 0.31032744 | F23: =F15/F7 -> 0.30641884
A25: Pèrdues de transport i distribució | B25: =B19-(B32+B61+B15) -> 60055571 | C25: =C19-(C32+C61+C15) -> 59949989 | D25: =D19-(D32+D61+D15) -> 50638791 | E25: =E19-(E32+E61+E15) -> 38132009 | F25: =F19-(F32+F61+F15) -> 27715261 | G25: - | H25: -
A26: % Pèrdues (sobre OTS- sense consums propis) | B26: =B25/B19 -> 0.11297736 | C26: =C25/C19 -> 0.10713316 | D26: =D25/D19 -> 0.091912736 | E26: =E25/E19 -> 0.067980556 | F26: =F25/F19 -> 0.048107138
A27: Pèrdues de transport i distribució | B27: =B19-(B32+B61+B15+B14) -> 54214419 | C27: =C19-(C32+C61+C15+C14) -> 54221181 | D27: =D19-(D32+D61+D15+D14) -> 45051767 | E27: =E19-(E32+E61+E15+E14) -> 32069657 | F27: =F19-(F32+F61+F15+F14) -> 21771517 | I27: Segons assessor, s'hand e tenir en compte els consums propis
A28: % Pèrdues (sobre OTS- total) | B28: =B27/B19 -> 0.1019889 | C28: =C27/C19 -> 0.096895536 | D28: =D27/D19 -> 0.08177192 | E28: =E27/E19 -> 0.057172785 | F28: =F27/F19 -> 0.037790203
A29: Pèrdues totals (Importació, Transport,ETR, MT i BT) | B29: 0.0652 | C29: 0.0652 | D29: 0.0652 | E29: 0.0652 | F29: 0.0652 | G29: - | H29: - | I29: dada donada per FEDA pel 2020
A31: Venda OS a distribuïdores (a MT) | I31: per comprovar)
A32: Consum final d'energia elèctrica | B32: =B33+B47+B54 -> 4.7042593e+08 | C32: =C33+C47+C54 -> 4.9694712e+08 | D32: =D33+D47+D54 -> 4.9586491e+08 | E32: =E33+E47+E54 -> 5.1519758e+08 | F32: =F33+F47+F54 -> 531862451
A33: Fabricació, construcció i mineria | B33: =SUM(B34:B46) -> 11117575 | C33: =SUM(C34:C46) -> 11823474 | D33: =SUM(D34:D46) -> 12428377 | E33: =SUM(E34:E46) -> 13740940 | F33: =SUM(F34:F46) -> 14227992 | G33: =(F33-D33)/D33 -> 0.14479887 | H33: =F33/$F$32 -> 0.026751262
A34: Ferro i acer | B34: 9604 | C34: 9453 | D34: 8580 | E34: 8731 | F34: 11278 | G34: =(F34-D34)/D34 -> 0.31445221 | H34: =F34/$F$32 -> 2.1204731e-05
A35: Química i petroquímica | B35: - | C35: - | D35: - | E35: - | F35: - | G35: - | H35: -
A36: Metalls no ferrosos | B36: - | C36: - | D36: - | E36: - | F36: - | G36: - | H36: -
A37: Minerals no metàl·lics | B37: 599973 | C37: 624831 | D37: 618754 | E37: 651552 | F37: 679841 | G37: =(F37-D37)/D37 -> 0.098725826 | H37: =F37/$F$32 -> 0.0012782271
A38: Equips de transport | B38: 17609 | C38: 17897 | D38: 18149 | E38: 19288 | F38: 25413 | G38: =(F38-D38)/D38 -> 0.40024244 | H38: =F38/$F$32 -> 4.7781151e-05
A39: Maquinària | B39: 1311984 | C39: 1621374 | D39: 1601839 | E39: 1655290 | F39: 1709625 | G39: =(F39-D39)/D39 -> 0.06728891 | H39: =F39/$F$32 -> 0.0032144119
A40: Mineria i pedrera | B40: - | C40: - | D40: - | E40: - | F40: - | G40: - | H40: -
A41: Alimentació i tabac | B41: 1988760 | C41: 2357326 | D41: 2687074 | E41: 2531044 | F41: 2410906 | G41: =(F41-D41)/D41 -> -0.10277648 | H41: =F41/$F$32 -> 0.0045329502
A42: Polpa de paper i impressió | B42: 380227 | C42: 329369 | D42: 293100 | E42: 352960 | F42: 416695 | G42: =(F42-D42)/D42 -> 0.42168202 | H42: =F42/$F$32 -> 0.00078346384
A43: Fusta i productes de fusta | B43: 403898 | C43: 395892 | D43: 376801 | E43: 398326 | F43: 409487 | G43: =(F43-D43)/D43 -> 0.086746054 | H43: =F43/$F$32 -> 0.00076991147
...

Sheet Power_BI
A1: kWh | B1: 2021 | C1: 2022 | D1: 2023 | E1: 2024 | F1: 2025
A2: Hidràulica | B2: 80286608 | C2: 69613704 | D2: 71889998 | E2: 92359315 | F2: 88708306
A3: Solar Fotovoltaica | B3: 1865538.4 | C3: 6307984 | D3: 12215537 | E3: 17414021 | F3: 23092406
A4: Valorització de residus (renovable) | B4: 18466925 | C4: 20073974 | D4: 17976196 | E4: 17438134 | F4: 18152025
A5: Cogeneració Soldeu (GNL) | B5: 7065454.2 | C5: 5588360.1 | D5: 8688936 | E5: 7804455.9 | F5: 5360836.6
A6: Valorització de residus (no renovable) | B6: 3212958.7 | C6: 3492560.5 | D6: 3244670.4 | E6: 3250125.6 | F6: 3403639.4
A7: Autoconsum FV (dins de consums propis) | B7: 351047 | C7: 1155532 | D7: 2864186.5 | E7: 5404048.4 | F7: 7075948.2
A8: Producció neta d'energia elèctrica/Injecció | B8: 1.0470528e+08 | C8: 98192243 | D8: 1.0556413e+08 | E8: 1.2679965e+08 | F8: 1.2569752e+08
A9: Importació d'energia elèctrica | B9: 426887150 | C9: 461422530 | D9: 445409760 | E9: 434152940 | F9: 450527770
A10: Exportació d'energia elèctrica | B10: -20700 | C10: -30880 | D10: -29660 | E10: -27370 | F10: -109930
A11: Ferro i acer | B11: 9604 | C11: 9453 | D11: 8580 | E11: 8731 | F11: 11278
A12: Química i petroquímica | B12: - | C12: - | D12: - | E12: - | F12: -
A13: Metalls no ferrosos | B13: - | C13: - | D13: - | E13: - | F13: -
A14: Minerals no metàl·lics | B14: 599973 | C14: 624831 | D14: 618754 | E14: 651552 | F14: 679841
A15: Equips de transport | B15: 17609 | C15: 17897 | D15: 18149 | E15: 19288 | F15: 25413
A16: Maquinària | B16: 1311984 | C16: 1621374 | D16: 1601839 | E16: 1655290 | F16: 1709625
A17: Mineria i pedrera | B17: - | C17: - | D17: - | E17: - | F17: -
A18: Alimentació i tabac | B18: 1988760 | C18: 2357326 | D18: 2687074 | E18: 2531044 | F18: 2410906
A19: Polpa de paper i impressió | B19: 380227 | C19: 329369 | D19: 293100 | E19: 352960 | F19: 416695
A20: Fusta i productes de fusta | B20: 403898 | C20: 395892 | D20: 376801 | E20: 398326 | F20: 409487
A21: Tèxtil i pell | B21: 105810 | C21: 87239 | D21: 69661 | E21: 70595 | F21: 76954
A22: Construcció | B22: 4496784 | C22: 4530889 | D22: 4997431 | E22: 6196638 | F22: 6636859
A23: Altres indústries | B23: 1802926 | C23: 1849204 | D23: 1756988 | E23: 1856516 | F23: 1850934
A24: Carretera | B24: 6449029 | C24: 8867091 | D24: 6974949 | E24: 2209203 | F24: 2148783
A25: Ferroviari | B25: - | C25: - | D25: - | E25: - | F25: -
A26: Aviació domèstica | B26: 28822 | C26: 28619 | D26: 26664 | E26: 26348 | F26: 26507
A27: Navegació domèstica | B27: - | C27: - | D27: - | E27: - | F27: -
A28: Transport per tuberia | B28: - | D28: - | E28: 663 | F28: 2038
A29: Transport altres | B29: 5555455 | C29: 5310345 | D29: 4602649 | E29: 4715089 | F29: 5045685
A30: Agricultura i forestal | B30: 148687 | C30: 138948 | D30: 121294 | E30: 119800 | F30: 166331
A31: Pesca | B31: 75716 | C31: 102019 | D31: 77543 | E31: 98518 | F31: 92979
A32: Comerç i serveis públics | B32: 267519966 | C32: 295570005 | D32: 295332462 | E32: 309129716 | F32: 317266447
A33: Domèstic | B33: 151508863 | C33: 148231863 | D33: 152795331 | E33: 161885488 | F33: 169835401
A34: Altres consums no classificats en cap altra categoria | B34: 28021816 | C34: 26874752 | D34: 23505638 | E34: 23271816 | F34: 23050288
A35: Consums propis de la indústria energètica | B35: 739188 | C35: 1531255 | D35: 1576341 | E35: 2191583 | F35: 9461699
E40: =#REF!+E35 -> #REF!
E41: 5404048.4
E42: =E40+E41 -> #REF!

Sheet Gràfics
A1: BALANÇ ELECTRIC ANDORRA
A3: Producció bruta d'energia elèctrica
A4: kWh | B4: 2021 | C4: 2022 | D4: 2023 | E4: 2024 | F4: 2025 | G4: 2025 GWh
A5: Producció renovable | B5: =B6+B7+B8 -> 1.0061907e+08 | C5: =C6+C7+C8 -> 95995663 | D5: =D6+D7+D8 -> 1.0208173e+08 | E5: =E6+E7+E8 -> 1.2721147e+08 | F5: =F6+F7+F8 -> 1.2995274e+08 | G5: =F5/1000000 -> 129.95274
A6: Hidroelèctrica | B6: 80286608 | C6: 69613704 | D6: 71889998 | E6: 92359315 | F6: 88708306 | G6: =F6/1000000 -> 88.708306
A7: Solar Fotovoltaica | B7: 1865538.4 | C7: 6307984 | D7: 12215537 | E7: 17414021 | F7: 23092406 | G7: =F7/1000000 -> 23.092406
A8: Valorització de residus (renovable) | B8: 18466925 | C8: 20073974 | D8: 17976196 | E8: 17438134 | F8: 18152025 | G8: =F8/1000000 -> 18.152025
A9: Producció no renovable | B9: =B10+B11 -> 10278413 | C9: =C10+C11 -> 9080920.6 | D9: =D10+D11 -> 11933606 | E9: =E10+E11 -> 11054581 | F9: =F10+F11 -> 8764476 | G9: =F9/1000000 -> 8.764476
A10: Cogeneració Soldeu (GNL) | B10: 7065454.2 | C10: 5588360.1 | D10: 8688936 | E10: 7804455.9 | F10: 5360836.6 | G10: =F10/1000000 -> 5.3608366
A11: Valorització de residus (no renovable) | B11: 3212958.7 | C11: 3492560.5 | D11: 3244670.4 | E11: 3250125.6 | F11: 3403639.4 | G11: =F11/1000000 -> 3.4036394
A12: Total producció bruta d'energia elèctrica | B12: =B5+B9 -> 1.1089748e+08 | C12: =C5+C9 -> 1.0507658e+08 | D12: =D5+D9 -> 1.1401534e+08 | E12: =E5+E9 -> 1.3826605e+08 | F12: =F5+F9 -> 1.3871721e+08
A13: Consums propis | B13: =B12-B16 -> 6192199.1 | C13: =C12-C16 -> 6884340.3 | D13: =D12-D16 -> 8451210.7 | E13: =E12-E16 -> 11466400 | F13: =F12-F16 -> 13019693
A14: Consums propis sense autoconsum FV | B14: =B13-B15 -> 5841152.1 | C14: =C13-C15 -> 5728808.3 | D14: =D13-D15 -> 5587024.2 | E14: =E13-E15 -> 6062351.5 | F14: =F13-F15 -> 5943744.5
A15: Autoconsum FV (dins de consums propis) | B15: 351047 | C15: 1155532 | D15: 2864186.5 | E15: 5404048.4 | F15: 7075948.2
A16: Producció neta d'energia elèctrica | B16: 1.0470528e+08 | C16: 98192243 | D16: 1.0556413e+08 | E16: 1.2679965e+08 | F16: 1.2569752e+08 | G16: =F16/1000000 -> 125.69752
A17: Saldo d'importació - exportació | F17: =F18+F19 -> 450417840 | G17: =F17/1000000 -> 450.41784
A18: Importació d'energia elèctrica | B18: 426887150 | C18: 461422530 | D18: 445409760 | E18: 434152940 | F18: 450527770
A19: Exportació d'energia elèctrica | B19: -20700 | C19: -30880 | D19: -29660 | E19: -27370 | F19: -109930
A20: Demanda en b.c. | B20: =B16+B18+B19 -> 5.3157173e+08 | C20: =C16+C18+C19 -> 5.5958389e+08 | D20: =D16+D18+D19 -> 5.5094423e+08 | E20: =E16+E18+E19 -> 5.6092522e+08 | F20: =F16+F18+F19 -> 5.7611536e+08
A22: Pèrdues de transport i distribució | B22: =B20-(B27+B56+B15) -> 60055571 | C22: =C20-(C27+C56+C15) -> 59949989 | D22: =D20-(D27+D56+D15) -> 50638791 | E22: =E20-(E27+E56+E15) -> 38132009 | F22: =F20-(F27+F56+F15) -> 27715261
A23: % Pèrdues (sobre OTS- sense consums propis) | B23: =B22/B20 -> 0.11297736 | C23: =C22/C20 -> 0.10713316 | D23: =D22/D20 -> 0.091912736 | E23: =E22/E20 -> 0.067980556 | F23: =F22/F20 -> 0.048107138
A24: Pèrdues de transport i distribució | B24: =B20-(B27+B56+B15+B13) -> 53863372 | C24: =C20-(C27+C56+C15+C13) -> 53065649 | D24: =D20-(D27+D56+D15+D13) -> 42187580 | E24: =E20-(E27+E56+E15+E13) -> 26665609 | F24: =F20-(F27+F56+F15+F13) -> 14695568
A25: % Pèrdues (sobre OTS- total) | B25: =B24/B20 -> 0.10132851 | C25: =C24/C20 -> 0.094830551 | D25: =D24/D20 -> 0.076573233 | E25: =E24/E20 -> 0.047538616 | F25: =F24/F20 -> 0.025508031
A27: Consum final d'energia elèctrica | B27: =B28+B42+B49 -> 4.7042593e+08 | C27: =C28+C42+C49 -> 4.9694712e+08 | D27: =D28+D42+D49 -> 4.9586491e+08 | E27: =E28+E42+E49 -> 5.1519758e+08 | F27: =F28+F42+F49 -> 531862451
A28: Fabricació, construcció i mineria | B28: =SUM(B29:B41) -> 11117575 | C28: =SUM(C29:C41) -> 11823474 | D28: =SUM(D29:D41) -> 12428377 | E28: =SUM(E29:E41) -> 13740940 | F28: =SUM(F29:F41) -> 14227992
A29: Ferro i acer | B29: 9604 | C29: 9453 | D29: 8580 | E29: 8731 | F29: 11278
A30: Química i petroquímica | B30: - | C30: - | D30: - | E30: - | F30: -
A31: Metalls no ferrosos | B31: - | C31: - | D31: - | E31: - | F31: -
A32: Minerals no metàl·lics | B32: 599973 | C32: 624831 | D32: 618754 | E32: 651552 | F32: 679841
A33: Equips de transport | B33: 17609 | C33: 17897 | D33: 18149 | E33: 19288 | F33: 25413
A34: Maquinària | B34: 1311984 | C34: 1621374 | D34: 1601839 | E34: 1655290 | F34: 1709625
A35: Mineria i pedrera | B35: - | C35: - | D35: - | E35: - | F35: -
A36: Alimentació i tabac | B36: 1988760 | C36: 2357326 | D36: 2687074 | E36: 2531044 | F36: 2410906
A37: Polpa de paper i impressió | B37: 380227 | C37: 329369 | D37: 293100 | E37: 352960 | F37: 416695
A38: Fusta i productes de fusta | B38: 403898 | C38: 395892 | D38: 376801 | E38: 398326 | F38: 409487
A39: Tèxtil i pell | B39: 105810 | C39: 87239 | D39: 69661 | E39: 70595 | F39: 76954
A40: Construcció | B40: 4496784 | C40: 4530889 | D40: 4997431 | E40: 6196638 | F40: 6636859
A41: Altres indústries | B41: 1802926 | C41: 1849204 | D41: 1756988 | E41: 1856516 | F41: 1850934
A42: Transport | B42: =SUM(B43:B48) -> 12033306 | C42: =SUM(C43:C48) -> 14206055 | D42: =SUM(D43:D48) -> 11604262 | E42: =SUM(E43:E48) -> 6951303 | F42: =SUM(F43:F48) -> 7223013
A43: Carretera | B43: 6449029 | C43: 8867091 | D43: 6974949 | E43: 2209203 | F43: 2148783
...

Sheet dades_FEDA
A1: Post 2025 FEDA | B1: OECC- dades 2025
A2: 75% de l'electricitat consumida va ser renovable | B2: =Produccio2_dades_OECC!F5/Produccio2_dades_OECC!F12 -> 0.93681767 | C2: producció bruta renovable de tota la producció nacional
B3: =Produccio2_dades_OECC!F5/Produccio2_dades_OECC!F19 -> 0.22556721 | C3: producció bruta renovable sobre la demanda nacional en b.c.
B4: =Produccio2_dades_OECC!F5/(Produccio2_dades_OECC!F32+Produccio2_dades_OECC!F61+Produccio2_dades_OECC!F15) -> 0.23696702 | C4: producció bruta renovable sobre el consum final d'energia
A5: 22,6 % d'origen hidràulic de l'electricitat | B5: =Produccio2_dades_OECC!F6/Produccio2_dades_OECC!F19 -> 0.15397664 | C5: producció bruta hidràulica sobre la demanda en b.c | D5: incorporen les garanties d'origen d'importació, nosaltres no
A6: 47,6% d'origen eòlic de l'electricitat | B6: - | C6: - | D6: incorporen les garanties d'origen d'importació, nosaltres no
A7: 4,4 % d'origen solar de l'electricitat | B7: =Produccio2_dades_OECC!F7/Produccio2_dades_OECC!F19 -> 0.040082954 | C7: producció bruta solar FV sobre la demanda | D7: incorporen les garanties d'origen d'importació, nosaltres no
A8: 8,4 % d'origen de gas de l'electricitat | B8: =(Produccio2_dades_OECC!F10+Produccio2_dades_OECC!F11)/Produccio2_dades_OECC!F19 -> 0.015213057 | C8: producció bruta no renovable sobre la demanda | D8: incorporen la importació. Nosaltres considerem GNL de soldeu i residus no renovables i GNL de CTRASA.
A9: 8,9% d'origen nuclear de l'electricitat | B9: - | C9: - | D9: incorporen les garanties d'origen d'importació, nosaltres no
A10: 1,1 % d'origen carbó de l'electricitat | B10: - | C10: - | D10: incorporen les garanties d'origen d'importació, nosaltres no
A11: 0,5 % d'origen fuel de l'electricitat | B11: - | C11: - | D11: incorporen les garanties d'origen d'importació, nosaltres no
A12: 6,5 % d'origen d'altres renovables de l'electricitat | B12: =Produccio2_dades_OECC!F8/Produccio2_dades_OECC!F19 -> 0.031507622 | C12: producció bruta residus renovables sobre la demanda | D12: incorporen les garanties d'origen d'importació, nosaltres no
A13: La hidro és la segona font del mix energètic | B13: =Produccio2_dades_OECC!F6/Produccio2_dades_OECC!F12 -> 0.63949026 | C13: contribució de la hidro a la producció bruta nacional, primera font
A14: Producció central hidroelèctrica de FEDA = 84,9 GWh | B14: 84,9 GWh | C14: PB (=REN) | H14: hidro | I14: =Produccio2_dades_OECC!F6/Produccio2_dades_OECC!F12 -> 0.63949026
A15: 41% Importació Espanya | B15: =Produccio2_dades_OECC!F17/Produccio2_dades_OECC!F19 -> 0.78200965 | C15: importació total sobre la demanda en b.c. | H15: FV | I15: =Produccio2_dades_OECC!F7/Produccio2_dades_OECC!F12 -> 0.16647109
A16: 36% importació França | H16: residus renovables | I16: =Produccio2_dades_OECC!F8/Produccio2_dades_OECC!F12 -> 0.13085633
A17: 23% producció nacional | B17: =Produccio2_dades_OECC!F12/Produccio2_dades_OECC!F19 -> 0.24078027 | C17: producció bruta nacional sobre la demanda en b.c. | H17: no renovable | I17: =Produccio2_dades_OECC!F9/Produccio2_dades_OECC!F12 -> 0.063182325
A18: 15,3% producció hidràulica | B18: =Produccio2_dades_OECC!F6/Produccio2_dades_OECC!F19 -> 0.15397664 | C18: producció bruta hidràulica sobre la demanda en b.c
A19: 3,9% producció tèrmica | B19: =(Produccio2_dades_OECC!F8+Produccio2_dades_OECC!F10+Produccio2_dades_OECC!F11)/Produccio2_dades_OECC!F19 -> 0.046720679 | C19: producció bruta tèrmica sobre la demanda en b.c | D19: inclou valoritzacio residus renovables i no renovables i GNL
A20: 4,1% producció fotovoltaica | B20: =Produccio2_dades_OECC!F7/Produccio2_dades_OECC!F19 -> 0.040082954 | C20: producció bruta solar FV sobre la demanda
A21: Memòria sostenibilitat 2025 FEDA
A22: 16,7 GWh de CTRASA | B22: Feda informa de PN i nosaltres de PB per això no quadra (caldria que sempre especifiquèssin a la seva memòria quina dada és)

Sheet comparativa BEN amb FEDA
A1: BALANÇ ELECTRIC ANDORRA
A3: Producció bruta d'energia elèctrica
A4: kWh | B4: 2021 | C4: 2022 | D4: 2023 | E4: 2024 | F4: 2025 | G4: =(F8-F9)/F9 -> 0.009560062
A5: Producció renovable bruta OECC | B5: =B7+B10+B12 -> 1.0176041e+08 | C5: =C7+C10+C12 -> 95718915 | D5: =D7+D10+D12 -> 1.0167514e+08 | E5: =E7+E10+E12 -> 1.2579736e+08 | F5: =F7+F10+F12 -> 1.2588465e+08
A6: Producció renovable bruta FEDA | B6: 1.0469982e+08 | C6: 98707619 | D6: 1.0429648e+08 | E6: 1.2852117e+08 | F6: 1.3029208e+08 | G6: =F6-F5 -> 4407430.7
A7: PB Hidràulica OECC | B7: 80482242 | C7: 69688543 | D7: 72521270 | E7: 92471407 | F7: 88945107 | G7: Les dades de hidro no quadren exactament perquè FEDA no tenia dades de la hidro del Comú de Sant Julià. Nosaltres hem estimat les dades com havíem fet abans, a partir del comportament d'Arcalís i Aixovall i assumint les mateixes pèrdues.
A8: PB Hidràulica FEDA | B8: 80482242 | C8: 69688543 | D8: 72498381 | E8: 92412402 | F8: 88879809
B9: 80308831 | C9: 69650494 | D9: 71919791 | E9: 92428102 | F9: 88038159
A10: PB Solar Fotovoltaica | B10: 2811243.2 | C10: 5956397.8 | D10: 11177677 | E10: 15887824 | F10: 18787522 | G10: Les dades no quadren per molt perquè nosaltres hem fet el càlcul a partir de la dades de PB de FEDA + estimació per criteris i l'eina de potencial solar amb la resta de Mútues. FEDA ho ha fet a partir de la seva PB i estimant la PB de les resta de Mútues amb el perfil solar de la Tosa de Pal.
A11: PB Solar Fotovoltaica FEDA | B11: 5750653.9 | C11: 8945101.6 | D11: 13821905 | E11: 18670633 | F11: 23243006
A12: PB Valorització de residus (renovable) | B12: 18466925 | C12: 20073974 | D12: 17976196 | E12: 17438134 | F12: 18152025 | G12: Les dades quadren excepte pel 2025 perquè vam actualtizar el % de residus renovables pel 2025 i FEDA no el tenia bé.
A13: PB Valorització de residus (renovable) FEDA | B13: 18466925 | C13: 20073974 | D13: 17976196 | E13: 17438134 | F13: 18169269
A14: Producció no renovable bruta OECC | B14: =B16+B18 -> 10278712 | C14: =C16+C18 -> 9082966 | D14: =D16+D18 -> 11932156 | E14: =E16+E18 -> 11054922 | F14: =F16+F18 -> 8764874.9 | G14: Les dades quadren excepte pel 2025 perquè vam actualtizar el % de residus renovables pel 2025 i FEDA no el tenia bé.
A15: Producció no renovable bruta FEDA | B15: 10278712 | C15: 9082966 | D15: 11932156 | E15: 11054922 | F15: 8747630.4
A16: PB Cogeneració Soldeu (GNL) | B16: 7065753.5 | C16: 5590405.6 | D16: 8687485.3 | E16: 7804796.6 | F16: 5361235.5
A17: PB Cogeneració Soldeu (GNL) FEDA | B17: 7065753.5 | C17: 5590405.6 | D17: 8687485.3 | E17: 7804796.6 | F17: 5361235.5
A18: PB Valorització de residus (no renovable) | B18: 3212958.7 | C18: 3492560.5 | D18: 3244670.4 | E18: 3250125.6 | F18: 3403639.4 | G18: Les dades quadren excepte pel 2025 perquè vam actualtizar el % de residus renovables pel 2025 i FEDA no el tenia bé.
A19: PB Valorització de residus (no renovable) FEDA | B19: 3212958.7 | C19: 3492560.5 | D19: 3244670.4 | E19: 3250125.6 | F19: 3386394.8
A20: Total producció bruta d'energia elèctrica | B20: =B5+B14 -> 1.1203912e+08 | C20: =C5+C14 -> 1.0480188e+08 | D20: =D5+D14 -> 1.136073e+08 | E20: =E5+E14 -> 1.3685229e+08 | F20: =F5+F14 -> 1.3464953e+08
A21: Total producció bruta d'energia elèctrica FEDA | B21: 1.1497853e+08 | C21: 1.0779058e+08 | D21: 1.1622864e+08 | E21: 1.3957609e+08 | F21: 1.3903972e+08 | G21: =F21-F20 -> 4390186.2
A22: Consums propis | B22: =B20-B25 -> 6377878.1 | C22: =C20-C25 -> 6588794.8 | D22: =D20-D25 -> 8439052 | E22: =E20-E25 -> 11353192 | F22: =F20-F25 -> 10192879
A23: Consums propis sense autoconsum FV | B23: =B22-B24 -> 5894956.9 | C23: =C22-C24 -> 5807510 | D23: =D22-D24 -> 5691110.3 | E23: =E22-E24 -> 6188063.4 | F23: =F22-F24 -> 6088316.5
A24: Autoconsum FV (dins de consums propis) | B24: 482921.2 | C24: 781284.8 | D24: 2747941.7 | E24: 5165128.4 | F24: 4104562.4
A25: Producció neta d'energia elèctrica/Injecció | B25: =B27+B33+B36+B39 -> 105661244 | C25: =C27+C33+C36+C39 -> 98213086 | D25: =D27+D33+D36+D39 -> 1.0516825e+08 | E25: =E27+E33+E36+E39 -> 1.254991e+08 | F25: =F27+F33+F36+F39 -> 124456650
A26: Producció neta d'energia elèctrica/Injecció FEDA | B26: 1.0680404e+08 | C26: 97650382 | D26: 1.0358682e+08 | E26: 1.2501771e+08 | F26: 1.222562e+08 | G26: =F25-F26 -> 2200446.5
A27: PN Hidràulica OECC | B27: 79443552 | C27: 68742663 | D27: 71531761 | E27: 91230630 | F27: 87760300 | G27: Les dades de hidro no quadren exactament perquè FEDA no tenia dades de la hidro del Comú de Sant Julià. Nosaltres hem agafat les dades de PN donades per FEDA per totes i les del Comú del Sant Julià hem agafat les del REN assumint com a bones.
A28: PN Hidràulica FEDA | B28: 79443552 | C28: 68742663 | D28: 71509666 | E28: 91173672 | F28: 87697268
A29: PN Hidràulica REN | B29: 80257421 | C29: 69565387 | D29: 71850869 | E29: 92268235 | F29: 87945833
A30: PN FV FEDA (per OECC i per FEDA) (excel FEDA) | B30: 1105991 | C30: 1397393 | D30: 2848597 | E30: 3162259 | F30: 3988900
A31: PN FV resta de Mútues OECC (REN) | B31: =1222331 -> 1222331 | C31: =3777720 -> 3777720 | D31: =5581138.52 -> 5581138.5 | E31: =7560436.24 -> 7560436.2 | F31: =10694060 -> 10694060
A32: PN FV resta de Mútues FEDA | B32: 2365952.4 | C32: 3212746.3 | D32: 4023293.8 | E32: 7135740.5 | F32: 8556825.7
A33: PN FV TOTAL OECC | B33: =B30+B31 -> 2328322 | C33: =C30+C31 -> 5175113 | D33: =D30+D31 -> 8429735.5 | E33: =E30+E31 -> 10722695 | F33: =F30+F31 -> 14682960
A34: PN FV TOTAL FEDA | B34: =B30+B32 -> 3471943.4 | C34: =C30+C32 -> 4610139.3 | D34: =D30+D32 -> 6871890.8 | E34: =E30+E32 -> 10297999 | F34: =F30+F32 -> 12545726
A35: PN FV TOTAL REN | B35: 1514491.4 | C35: 5152452 | D35: 9351350.5 | E35: 12009972 | F35: 16000902
A36: PN CTRASA OECC (REN) | B36: 16896690 | C36: 18764510 | D36: 16607310 | E36: 15821700 | F36: 16707770 | G36: Les dades de PN de REN i PN de FEDA noa caben de quadrar per un tema d'arrodoniment
A37: PN CTRASA FEDA | B37: 16895860 | C37: 18764990 | D37: 16607620 | E37: 15821960 | F37: 16707420
A38: PN CTRASA | B38: 16889010 | C38: 18760470 | D38: 16607910 | E38: 15809170 | F38: 16711330 | G38: Segons FEDA, aquestes dades son calculades
A39: PN Soldeu OECC | B39: 6992680 | C39: 5530800 | D39: 8599440 | E39: 7724070 | F39: 5305620 | G39: Les dades de PN de REN i PN de FEDA no acaben de quadrar per un tema d'arrodoniment.
A40: PN Soldeu FEDA | B40: 6992680 | C40: 5532590 | D40: 8597640 | E40: 7724080 | F40: 5305790
A41: Importació d'energia elèctrica | B41: 426887150 | C41: 461422530 | D41: 445409760 | E41: 434152940 | F41: 450527770
...

Sheet situacio_hidro
B1: Tipus de connexió | C1: Dada de REN | D1: Explicació FEDA | E1: Distribuïdora | F1: Situació | H1: 2025 | I1: Dada de REN | J1: Dada FEDA PB | K1: Dada OECC PB (REN=PN) | L1: Dada OECC PB (REN≠PN)* | M1: Dada FEDA PN | N1: Dada OECC PN (REN=PN) | O1: Dada OECC PN (REN≠PN) | Q1: dada informada
A2: 02186 - Central (FEDA) | B2: Independent | C2: Injecció | D2: PB | E2: FEDA | F2: Hauríem de traslladar tots els fluxos històrics del REN a PB | H2: 02186 - Central (FEDA) | I2: 84919090 | J2: 84919090 | K2: =I2 -> 84919090 | L2: - | M2: 83998516 | N2: 84131000 | O2: - | Q2: dada final estimada
A3: 02165 - Arcalís (PERSA) | B3: Independent | C3: Injecció | D3: Ni PB ni PN | E3: NASA | F3: O assumim la dada de REN com a PN o apliquem una correció de pèrdues de transformador | H3: 02165 - Arcalís (PERSA) | I3: 1358934 | J3: 1429758 | K3: 1407784.1 | L3: 1386667.3 | M3: 1336721.8 | N3: =I3 -> 1358934 | O3: 1338550 | Q3: * d'acord al reglament
A4: 01601 - Aixovall (PERSA) | B4: Independent | C4: Injecció | D4: Ni PB ni PN | E4: Mútua | F4: O assumim la dada de REN com a PN o apliquem una correció de pèrdues de transformador | H4: 01601 - Aixovall (PERSA) | I4: 1588871 | J4: 1778910 | K4: 1645986.7 | L4: 1621296.9 | M4: 1677730.8 | N4: =I4 -> 1588871 | O4: 1565037.9
A5: 02892- SAETDE | B5: Híbrida | C5: PB | D5: Ni PB ni PN | E5: FEDA | F5: El 2025 han penjat al REN com a PB. Ens havíen dit que la única que informava de PB era la central. Assumim com error i tenim el mateix criteri que les altres. Si és híbrida ha d'informar de PB i PN. | H5: 02892- SAETDE | I5: 686630 | J5: 743700 | K5: 711312.55 | L5: 700642.86 | M5: 676340.4 | N5: =I5 -> 686630 | O5: 676330.55
A6: 03172 - Comú St. Julià | B6: Híbrida | C6: Injecció | D6: Ni PB ni PN | E6: Mútua | F6: O assumim la dada de REN com a PN o apliquem una correció de pèrdues de transformador. Si és híbrida ha d'informar de PB i PN. | H6: 03172 - Comú St. Julià | I6: 63032 | J6: - | K6: 65297.835 | L6: 64318.367 | M6: - | N6: =I6 -> 63032 | O6: 62086.52
A7: 02158 - Comú Andorra la Vella | B7: Independent | C7: Injecció i PB | D7: Ni PB ni PN | E7: FEDA | F7: O assumim la dada de REN d'injecció om a PN o apliquem una correció de pèrdues de transformador. La dada de PB ens al creiem. | H7: 02158 - Comú Andorra la Vella | I7: 15906 | J7: 8350.936 | K7: =I8 -> 16290 | L7: =I8 -> 16290 | M7: 7958.936 | N7: =I7 -> 15906 | O7: 15667.41
I8: 16290
N9: PN no integra les pèrdues dels transformadors
B16: 2021* | C16: 2022* | D16: 2023 | E16: 2024 | F16: 2025
A17: PB FEDA** | B17: 80482242 | C17: 69688543 | D17: 72498381 | E17: 92412402 | F17: 88879809
A18: PB OECC assumint REN com PN | B18: 80308831 | C18: 69650494 | D18: 71919791 | E18: 92428561 | F18: 88765761
A19: PB OECC assumint REN com P.intermitja | B19: 80286608 | C19: 69613704 | D19: 71889998 | E19: 92359315 | F19: 88708306
A20: PN FEDA** | B20: 79443552 | C20: 68742663 | D20: 71509666 | E20: 91173672 | F20: 87697268
A21: PN OECC assumint REN com PN | B21: 79525866 | C21: 68941759 | D21: 71201852 | E21: 91453876 | F21: 87844373
A22: PN OECC assumint REN com P.intermitja | B22: 79504414 | C22: 68906246 | D22: 71173092 | E22: 91386098 | F22: 87788672
A23: *Al REN falten dades de la hidro del Comú d'Andorra la Vella
A24: ** FEDA no disposa de dades de la hidro del comú de Sant Julià

Sheet situacio_FV
A1: kWh | B1: 2021 | C1: 2022 | D1: 2023 | E1: 2024 | F1: 2025
A2: Injecció OECC (REN) | B2: 1514491.4 | C2: 5152452 | D2: 9351350.5 | E2: 12009972 | F2: 16016457 | G2: assumint que tot el que han informat al REN és injecció
A3: Injecció total calculada per FEDA | B3: 3471943.4 | C3: 4610139.3 | D3: 6871890.8 | E3: 10297999 | F3: 12545726 | G3: =(F2-F3)/F2 -> 0.21669784
A4: injecció/PB2 | B4: =B2/B5 -> 0.81182537 | C4: =C2/C5 -> 0.81681437 | D4: =D2/D5 -> 0.76552922 | E4: =E2/E5 -> 0.68967256 | G4: =AVERAGE(B4:E4) -> 0.77096038
A5: PB OECC sense 2025 total | B5: 1865538.4 | C5: 6307984 | D5: 12215537 | E5: 17414021 | F5: =F2/$G$4 -> 20774683
A6: PB OECC amb 2025 total | B6: 1865538.4 | C6: 6307984 | D6: 12215537 | E6: 17414021 | F6: 23092406
A7: PB Solar Fotovoltaica FEDA | B7: 5750653.9 | C7: 8945101.6 | D7: 13821905 | E7: 18670633 | F7: 23243006
A8: PB OECC sense 2025 FEDA a banda | B8: =B10+B12 -> 2805388.2 | C8: =C10+C12 -> 5970312.8 | D8: =D10+D12 -> 11202123 | E8: =E10+E12 -> 15841105 | F8: =F2/$G$4 -> 20774683
A9: PB OECC amb 2025 FEDA a banda | B9: =B11+B12 -> 2805388.2 | C9: =C11+C12 -> 5970312.8 | D9: =D11+D12 -> 11202123 | E9: =E11+E12 -> 15841105 | F9: =F11+F12 -> 20687112
A10: PB OECC sense 2025 FEDA a banda | B10: 1562812 | C10: 4424416 | D10: 6973003 | E10: 9484159
A11: PB OECC amb 2025 FEDA a banda | B11: 1562812 | C11: 4424416 | D11: 6973003 | E11: 9484159 | F11: 12580745
A12: PB Solar Fotovoltaica només FEDA | B12: 1242576.2 | C12: 1545896.8 | D12: 4229120.2 | E12: 6356945.7 | F12: 8106366.6 | G12: donada per FEDA
A13: PB Solar Fotovoltaica altres (FEDA) | B13: =B7-B12 -> 4508077.7 | C13: =C7-C12 -> 7399204.8 | D13: =D7-D12 -> 9592784.9 | E13: =E7-E12 -> 12313687 | F13: =F7-F12 -> 15136640
A14: AUTOCONSUM | B14: =B6-B2 -> 351047 | C14: =C6-C2 -> 1155532 | D14: =D6-D2 -> 2864186.5 | E14: =E6-E2 -> 5404048.4 | F14: =F6-F2 -> 7075948.2
A15: autoconsum/PB | B15: =B14/B6 -> 0.18817463 | C15: =C14/C6 -> 0.18318563 | D15: =D14/D6 -> 0.23447078 | E15: =E14/E6 -> 0.31032744 | F15: =F14/F6 -> 0.30641884

Sheet situacio_cogen
A1: kWh | B1: 2021 | C1: 2022 | D1: 2023 | E1: 2024 | F1: 2025
A2: CTRASA
A3: CTRASA- producció bruta (FEDA) | B3: 21679884 | C3: 23566535 | D3: 21220866 | E3: 20688260 | F3: 21555664 | G3: FEDA_BE_versio_FEDAv1
A4: CTRASA - producció bruta | B4: =21684.14*1000 -> 21684140 | C4: =23755*1000 -> 23755000 | D4: =21111.76*1000 -> 21111760 | E4: =20441.99*1000 -> 20441990 | F4: =21346.37*1000 -> 21346370 | G4: CTRASA mail
A5: CTRASA - energia elèctrica venuda | B5: =16889.01*1000 -> 16889010 | C5: =18760.47*1000 -> 18760470 | D5: =16768.69*1000 -> 16768690 | E5: =15809.17*1000 -> 15809170 | F5: =16711.33*1000 -> 16711330 | G5: CTRASA mail (coincideix amb el pdf indicadors CTRASA però no exactament amb el REN)
A6: CTRASA - Injecció (REN) OECC | B6: 16896690 | C6: 18764510 | D6: 16607310 | E6: 15821700 | F6: 16707770 | G6: FEDA REN
A7: % Residus renovables | B7: 0.8518 | C7: 0.8518 | D7: 0.8471 | E7: 0.8429 | F7: 0.8421 | G7: càlcul OECC per inventari
A8: CTRASA-PB residus renovables | B8: =B3*B7 -> 18466925 | C8: =C3*C7 -> 20073974 | D8: =D3*D7 -> 17976196 | E8: =E3*E7 -> 17438134 | F8: =F3*F7 -> 18152025
A9: CTRASA-PB residus renovables (FEDA) | B9: 18466925 | C9: 20073974 | D9: 17976196 | E9: 17438134 | F9: 18169269
A10: CTRASA-PB residus no renovables + gasoil | B10: =B3-B8 -> 3212958.7 | C10: =C3-C8 -> 3492560.5 | D10: =D3-D8 -> 3244670.4 | E10: =E3-E8 -> 3250125.6 | F10: =F3-F8 -> 3403639.4
A11: SOLDEU
A12: Soldeu - Injecció (REN) OECC | B12: 6992680 | C12: 5530800 | D12: 8599440 | E12: 7724070 | F12: 5305620 | G12: Son diferents per un tema d'arrodoniment
A13: Soldeu- producció neta (FEDA) | B13: 6992680 | C13: 5532590 | D13: 8597640 | E13: 7724080 | F13: 5305790
A14: Soldeu- producció bruta (PB=PN) | B14: =B12 -> 6992680 | C14: =C12 -> 5530800 | D14: =D12 -> 8599440 | E14: =E12 -> 7724070 | F14: =F12 -> 5305620
A15: Soldeu- producció bruta (calculada) 2 (1,03% mig) | B15: =B14/(1-1.03%) -> 7065454.2 | C15: =C14/(1-1.03%) -> 5588360.1 | D15: =D14/(1-1.03%) -> 8688936 | E15: =E14/(1-1.03%) -> 7804455.9 | F15: =F14/(1-1.03%) -> 5360836.6 | G15: apliquem el % de pèrdues que aplica FEDA sobre la nostra dada de REN original
A16: Soldeu- producció bruta (FEDA) | B16: 7065753.5 | C16: 5590405.6 | D16: 8687485.3 | E16: 7804796.6 | F16: 5361235.5 | G16: FEDA_BE_versio_FEDAv1
A17: Consums propis (només pèrdues transformadors) | B17: =B15-B12 -> 72774.178 | C17: =C15-C12 -> 57560.109 | D17: =D15-D12 -> 89496.041 | E17: =E15-E12 -> 80385.896 | F17: =F15-F12 -> 55216.617 | G17: és només dels transformadors perquè Soldeu tot el que produeix ho injecta, no fa autoconsum. Els consusm electrics que necessiten ho treuen de la xarxa elèctrica i per tant estarà dins d'un codi CAEA que classificarem com consums propis de la industria energètica.
B18: =(B16-B13) -> 73073.506 | C18: =(C16-C13) -> 57815.565 | D18: =(D16-D13) -> 89845.338 | E18: =(E16-E13) -> 80716.636 | F18: =(F16-F13) -> 55445.505
B19: =B18/B16 -> 0.010341927 | C19: =C18/C16 -> 0.010341927 | D19: =D18/D16 -> 0.010341927 | E19: =E18/E16 -> 0.010341927 | F19: =F18/F16 -> 0.010341927

Sheet PN
A1: Producció neta
A2: kWh | B2: 2021 | C2: 2022 | D2: 2023 | E2: 2024 | F2: 2025
A3: Hidràulica | B3: 79301423 | C3: 68744481 | D3: 71006026 | E3: 91243909 | F3: 87667672 | G3: Calculada assumint que la dada informada al REN és una producció intermitja
A4: Solar Fotovoltaica | B4: 1514491.4 | C4: 5152452 | D4: 9351350.5 | E4: 12009972 | F4: 16016457
A5: Valorització de residus (total) | B5: 16896690 | C5: 18764510 | D5: 16607310 | E5: 15821700 | F5: 16707770
A6: Cogeneració Soldeu (GNL) | B6: 6992680 | C6: 5530800 | D6: 8599440 | E6: 7724070 | F6: 5305620
A7: Producció neta d'energia elèctrica/Injecció | B7: =SUM(B3:B6) -> 1.0470528e+08 | C7: =SUM(C3:C6) -> 98192243 | D7: =SUM(D3:D6) -> 1.0556413e+08 | E7: =SUM(E3:E6) -> 1.2679965e+08 | F7: =SUM(F3:F6) -> 1.2569752e+08
